BEGIN:VCALENDAR
VERSION:2.0
PRODID:-//ChamberMaster//Event Calendar 2.0//EN
METHOD:PUBLISH
X-PUBLISHED-TTL:P3D
REFRESH-INTERVAL:P3D
CALSCALE:GREGORIAN
BEGIN:VEVENT
DTSTART:20140207T200000Z
DTEND:20140207T210000Z
X-MICROSOFT-CDO-ALLDAYEVENT:FALSE
SUMMARY:Prgrams & Business Development Committee Meeting
DESCRIPTION:
X-ALT-DESC;FMTTYPE=text/html:
LOCATION:1410 Grant Street\, Suite B104 Denver\, CO 80203
UID:e.825.929
SEQUENCE:3
DTSTAMP:20260422T202252Z
URL:https://members.cbcc.biz/events/details/prgrams-business-development-committee-meeting-02-07-2014-929
END:VEVENT

END:VCALENDAR
