BEGIN:VCALENDAR
VERSION:2.0
PRODID:-//ChamberMaster//Event Calendar 2.0//EN
METHOD:PUBLISH
X-PUBLISHED-TTL:P3D
REFRESH-INTERVAL:P3D
CALSCALE:GREGORIAN
BEGIN:VEVENT
DTSTART:20140205T163000Z
DTEND:20140205T173000Z
X-MICROSOFT-CDO-ALLDAYEVENT:FALSE
SUMMARY:Public Policy Committee Meeting
DESCRIPTION:
X-ALT-DESC;FMTTYPE=text/html:
LOCATION:1410 Grant Street\, Suite B104 Denver\, CO 80203
UID:e.825.927
SEQUENCE:3
DTSTAMP:20260419T160241Z
URL:https://members.cbcc.biz/events/details/public-policy-committee-meeting-02-05-2014-927
END:VEVENT

END:VCALENDAR
