BEGIN:VCALENDAR
VERSION:2.0
PRODID:-//ChamberMaster//Event Calendar 2.0//EN
METHOD:PUBLISH
X-PUBLISHED-TTL:P3D
REFRESH-INTERVAL:P3D
CALSCALE:GREGORIAN
BEGIN:VEVENT
DTSTART:20210305T220000Z
DTEND:20210306T000000Z
X-MICROSOFT-CDO-ALLDAYEVENT:FALSE
SUMMARY:"REGULATION\, SOCIAL EQUITY\, DELIVERY\, EXPUNGEMENT\, HOSPITALITY LOUNGES & MORE"
DESCRIPTION:UPDATES FROM CO MED AND CITY OF DENVER\n\n   UPDATES FROM COLORADO LEGISLATORS\n\n  SOCIAL EQUITY IN COLORADO: REGULATIONS\, DELIVERY\, EXPUNGEMENT & HOSPITALITY LOUNGES\n\n THE MEDPHARM RESEARCH & DEVELOPMENT CORNER\n\n BCEI-ROUND TABLE DISCUSSION WITH CANNABIS INDUSTRY LEADERS\n\n  INSIDE CANNABIS SOCIAL EQUITY "HOT TOPICS"
X-ALT-DESC;FMTTYPE=text/html:&bull\; UPDATES FROM CO MED AND CITY OF DENVER<br />\n&nbsp\; &nbsp\;UPDATES FROM COLORADO LEGISLATORS<br />\n&bull\; SOCIAL EQUITY IN COLORADO: REGULATIONS\, DELIVERY\, EXPUNGEMENT &amp\; HOSPITALITY LOUNGES<br />\n&nbsp\;THE MEDPHARM RESEARCH &amp\; DEVELOPMENT CORNER<br />\n&nbsp\;BCEI-ROUND TABLE DISCUSSION WITH CANNABIS INDUSTRY LEADERS<br />\n&bull\; INSIDE CANNABIS SOCIAL EQUITY &quot\;HOT TOPICS&quot\;
LOCATION:COME JOIN US ON ZOOM https://us02web.zoom.us/j/81238875241?pwd=WGtCZHFNQkFjdStqRTJmS3g0VUpiQT09 Meeting ID: 812 3887 5241 Passcode: 279710
UID:e.825.3941
SEQUENCE:3
DTSTAMP:20260424T105809Z
URL:https://members.cbcc.biz/events/details/regulation-social-equity-delivery-expungement-hospitality-lounges-more-3941
END:VEVENT

END:VCALENDAR
