BEGIN:VCALENDAR
VERSION:2.0
PRODID:-//ChamberMaster//Event Calendar 2.0//EN
METHOD:PUBLISH
X-PUBLISHED-TTL:P3D
REFRESH-INTERVAL:P3D
CALSCALE:GREGORIAN
BEGIN:VEVENT
DTSTART:20170211T160000Z
DTEND:20170211T180000Z
X-MICROSOFT-CDO-ALLDAYEVENT:FALSE
SUMMARY:Relationship Marketing Pays
DESCRIPTION:Are you looking to take your business to the NEXT LEVEL? Are you looking to turn your customers into LOYAL RAVING FANS? Are you looking to SAVE TIME & MAKE MORE MONEY IN YOUR BUSINESS? YES! YES! YES! YOU'RE INVITED TO JOIN US AND LEARN MORE!! * If you are business owner/professional\, come learn how the SendOutCards system and our APP can help you build your current business bigger and better! We will be sharing examples on how business owners and sales people are using SendOutCards to increase referrals\, sales and profits. Join us Saturday February 11th 9:00   11:00 am Seating is limited so call Brenda Sanchez at 719-331-1525 today to reserve your seat
X-ALT-DESC;FMTTYPE=text/html:Are you looking to take your business to the NEXT LEVEL? Are you looking to turn your customers into LOYAL RAVING FANS? Are you looking to SAVE TIME &amp\; MAKE MORE MONEY IN YOUR BUSINESS? YES! YES! YES! YOU&#39\;RE INVITED TO JOIN US AND LEARN MORE!! * If you are business owner/professional\, come learn how the SendOutCards system and our APP can help you build your current business bigger and better! We will be sharing examples on how business owners and sales people are using SendOutCards to increase referrals\, sales and profits. Join us Saturday February 11th 9:00 &ndash\; 11:00 am Seating is limited so call Brenda Sanchez at 719-331-1525 today to reserve your seat
LOCATION:Hotel Elegante Conference & Event Center\, 2886 S Circle Drive
UID:e.825.1153
SEQUENCE:3
DTSTAMP:20260419T174038Z
URL:https://members.cbcc.biz/events/details/relationship-marketing-pays-1153
END:VEVENT

END:VCALENDAR
