BEGIN:VCALENDAR
VERSION:2.0
PRODID:-//ChamberMaster//Event Calendar 2.0//EN
METHOD:PUBLISH
X-PUBLISHED-TTL:P3D
REFRESH-INTERVAL:P3D
CALSCALE:GREGORIAN
BEGIN:VEVENT
DTSTART;VALUE=DATE:20190207
DTEND;VALUE=DATE:20190209
TRANSP:TRANSPARENT
X-MICROSOFT-CDO-ALLDAYEVENT:TRUE
SUMMARY:Save the Date: Colorado’s Administrative Equity Convening
DESCRIPTION:Please join us to engage in developing solutions to address inequities in our administrative systems.\n\nAdministrative Equity\, similar to health equity\, is ensuring everyone has a fair and just opportunity to secure\, manage and administer funds from any funder.\n\nTo this end\, our partnership is convening a conference to develop smaller action groups that consist of community organizations and experts within topics of administration\, such as legal\, financial\, procurement\, and other leaders who truly understand issues associated with administrative equity. We understand that in order to address equity successfully we must be intentional and have a clear focus. This is why our two-day convening will be solution-driven and outcome-oriented\; developing a Call to Action that will drive ongoing work to achieve equity throughout Colorado's nonprofits and social enterprises.
X-ALT-DESC;FMTTYPE=text/html:Please join us to engage in developing solutions to address inequities in our administrative systems.<br />\n<strong>Administrative Equity</strong>\, similar to health equity\,<strong> is&nbsp\;ensuring everyone has a fair and just opportunity to secure\, manage and administer funds from any funder.</strong><br />\nTo this end\, our partnership is convening a conference to develop smaller action groups that consist of community organizations and experts within topics of administration\, such as legal\, financial\, procurement\, and other leaders who truly understand issues associated with administrative equity. We understand that in order to address equity successfully&nbsp\;we must be&nbsp\;intentional and have a clear focus.&nbsp\;This is why our two-day convening will be solution-driven and outcome-oriented\; developing a Call to Action that will drive ongoing work to achieve equity throughout Colorado&rsquo\;s nonprofits and social enterprises.<br />\n&nbsp\;
LOCATION:TBA
UID:e.825.3539
SEQUENCE:3
DTSTAMP:20260426T032927Z
URL:https://members.cbcc.biz/events/details/save-the-date-colorado-s-administrative-equity-convening-3539
END:VEVENT

END:VCALENDAR
