BEGIN:VCALENDAR
VERSION:2.0
PRODID:-//ChamberMaster//Event Calendar 2.0//EN
METHOD:PUBLISH
X-PUBLISHED-TTL:P3D
REFRESH-INTERVAL:P3D
CALSCALE:GREGORIAN
BEGIN:VEVENT
DTSTART:20190504T000000Z
DTEND:20190504T013000Z
X-MICROSOFT-CDO-ALLDAYEVENT:FALSE
SUMMARY:SISTAHNEWS: ATTENTION CONSULTANTS SEEKING CONTRACTS
DESCRIPTION:Sistahpreneurs is excited to gear up and get ready for our Consulting Success program and leads group. In this work\, we will provide useful tools and resources to help Black women consultants develop a consistent lead flow and profitable consulting businesses. I'm sending this special email out to share about upcoming events for consultants and contractors: MAY 3\, 2019: 6PM SISTAHPRENEURS DRINKS & DIALOGUE : A DESIGN SESSION FOR BLACK WOMEN CONSULTANTS RSVP HERE Who: Black Women Contractors\, Consultants in Professional Services and Goods and Services What: Drinks & Dialogue: A Design Session for Black Women Consultants An intimate brainstorming and planning session designed to:  coordinate a plan to provide differentiated capacity-building and business development support to Black women consultants   develop a strategy to grow an internal network for Black women entrepreneurs to generate leads and grow their consulting/contracting businesses   brainstorm ways to strategically support advocacy current city-wide efforts to close disparities in contracting/procurement that impact Black women  learn about the Sistahpreneurs leads group (SistahLeads) and our new consulting success program When: Friday\, May 3\, 2019 from 6:00PM - 7:30PM Why: To provide lead generation and capacity building support to Black women consultants in Colorado.
X-ALT-DESC;FMTTYPE=text/html:Sistahpreneurs is excited to gear up and get ready for our Consulting Success program and leads group. In this work\, we will provide useful tools and resources to help Black women consultants develop a consistent lead flow and profitable consulting businesses. I&#39\;m sending this special email out to share about upcoming events for consultants and contractors: MAY 3\, 2019: 6PM SISTAHPRENEURS DRINKS &amp\; DIALOGUE : A DESIGN SESSION FOR BLACK WOMEN CONSULTANTS RSVP HERE Who: Black Women Contractors\, Consultants in Professional Services and Goods and Services What: Drinks &amp\; Dialogue: A Design Session for Black Women Consultants An intimate brainstorming and planning session designed to: &bull\;coordinate a plan to provide differentiated capacity-building and business development support to Black women consultants &bull\; develop a strategy to grow an internal network for Black women entrepreneurs to generate leads and grow their consulting/contracting businesses &bull\; brainstorm ways to strategically support advocacy current city-wide efforts to close disparities in contracting/procurement that impact Black women &bull\;learn about the Sistahpreneurs leads group (SistahLeads) and our new consulting success program When: Friday\, May 3\, 2019 from 6:00PM - 7:30PM Why: To provide lead generation and capacity building support to Black women consultants in Colorado.
LOCATION:
UID:e.825.3693
SEQUENCE:3
DTSTAMP:20260425T225712Z
URL:https://members.cbcc.biz/events/details/sistahnews-attention-consultants-seeking-contracts-3693
END:VEVENT

END:VCALENDAR
