BEGIN:VCALENDAR
VERSION:2.0
PRODID:-//ChamberMaster//Event Calendar 2.0//EN
METHOD:PUBLISH
X-PUBLISHED-TTL:P3D
REFRESH-INTERVAL:P3D
CALSCALE:GREGORIAN
BEGIN:VEVENT
DTSTART:20170228T160000Z
DTEND:20170228T210000Z
X-MICROSOFT-CDO-ALLDAYEVENT:FALSE
SUMMARY:Strategies for Growth in the Contracting World
DESCRIPTION:This workshop\, covering contracts\, RFPs\, awards and set-asides\, will include discussing and learning about local and non-local markets\, how to stay competitive in emerging markets\, prime vs. sub strategies\, identifying opportunities\, and case studies and stories from both successful and "not as" successful companies. \n\n\n\nWorkshop objectives include:\n\n	Competitive landscapes\n	Prime vs. sub strategies\n	Relationship building\n	Networking\n	RFP do's and don'ts\n	Holding an effective kickoff meeting\n	Storytelling (successful or not?)\n\nLeave this workshop understanding:\n\n\n	How small businesses fit into their niche\n	Having a strategy for weather or not to prime or sub on RFPs\n	You WON\, but now what? (identifying customer needs as they could have changed\, what to do with changes at the kick-off meeting\, conducting a successful kickoff meeting)\n	How networking events and social media can help your business growth\n	Identifying opportunities including set-asides\n	How to find out what your competition is doing (websites\, award postings\, etc.)\n	When are you successful?
X-ALT-DESC;FMTTYPE=text/html:<span style="color:#403f42\;"><span style="font-family:arial\,sans-serif\;"><span style="font-size:10pt\;">This workshop\, covering contracts\, RFPs\, awards and set-asides\, will include discussing and learning about local and non-local markets\, how to stay competitive in emerging markets\, prime vs. sub strategies\, identifying opportunities\, and case studies and stories from both successful and &quot\;not as&quot\; successful companies.&nbsp\;<br />\n<br />\nWorkshop objectives include:</span></span></span>\n<ul>\n	<li style="font-size:12pt\;font-family:Times New Roman\, serif\;color:rgb(64\, 63\, 66)\;"><span style="font-family:arial\,sans-serif\;"><span style="font-size:10pt\;">Competitive landscapes</span></span></li>\n	<li style="font-size:12pt\;font-family:Times New Roman\, serif\;color:rgb(64\, 63\, 66)\;"><span style="font-family:arial\,sans-serif\;"><span style="font-size:10pt\;">Prime vs. sub strategies</span></span></li>\n	<li style="font-size:12pt\;font-family:Times New Roman\, serif\;color:rgb(64\, 63\, 66)\;"><span style="font-family:arial\,sans-serif\;"><span style="font-size:10pt\;">Relationship building</span></span></li>\n	<li style="font-size:12pt\;font-family:Times New Roman\, serif\;color:rgb(64\, 63\, 66)\;"><span style="font-family:arial\,sans-serif\;"><span style="font-size:10pt\;">Networking</span></span></li>\n	<li style="font-size:12pt\;font-family:Times New Roman\, serif\;color:rgb(64\, 63\, 66)\;"><span style="font-family:arial\,sans-serif\;"><span style="font-size:10pt\;">RFP do&#39\;s and don&#39\;ts</span></span></li>\n	<li style="font-size:12pt\;font-family:Times New Roman\, serif\;color:rgb(64\, 63\, 66)\;"><span style="font-family:arial\,sans-serif\;"><span style="font-size:10pt\;">Holding an effective kickoff meeting</span></span></li>\n	<li style="font-size:12pt\;font-family:Times New Roman\, serif\;color:rgb(64\, 63\, 66)\;"><span style="font-family:arial\,sans-serif\;"><span style="font-size:10pt\;">Storytelling (successful or not?)</span></span></li>\n</ul>\n<span style="color:#403f42\;"><span style="font-family:arial\,sans-serif\;"><span style="font-size:10pt\;">Leave this workshop understanding:</span></span></span>\n\n<ul>\n	<li style="font-size:12pt\;font-family:Times New Roman\, serif\;color:rgb(64\, 63\, 66)\;"><span style="font-family:arial\,sans-serif\;"><span style="font-size:10pt\;">How small businesses fit into their niche</span></span></li>\n	<li style="font-size:12pt\;font-family:Times New Roman\, serif\;color:rgb(64\, 63\, 66)\;"><span style="font-family:arial\,sans-serif\;"><span style="font-size:10pt\;">Having a strategy for weather or not to prime or sub on RFPs</span></span></li>\n	<li style="font-size:12pt\;font-family:Times New Roman\, serif\;color:rgb(64\, 63\, 66)\;"><span style="font-family:arial\,sans-serif\;"><span style="font-size:10pt\;">You WON\, but now what? (identifying customer needs as they could have changed\, what to do with changes at the kick-off meeting\, conducting a successful kickoff meeting)</span></span></li>\n	<li style="font-size:12pt\;font-family:Times New Roman\, serif\;color:rgb(64\, 63\, 66)\;"><span style="font-family:arial\,sans-serif\;"><span style="font-size:10pt\;">How networking events and social media can help your business growth</span></span></li>\n	<li style="font-size:12pt\;font-family:Times New Roman\, serif\;color:rgb(64\, 63\, 66)\;"><span style="font-family:arial\,sans-serif\;"><span style="font-size:10pt\;">Identifying opportunities including set-asides</span></span></li>\n	<li style="font-size:12pt\;font-family:Times New Roman\, serif\;color:rgb(64\, 63\, 66)\;"><span style="font-family:arial\,sans-serif\;"><span style="font-size:10pt\;">How to find out what your competition is doing (websites\, award postings\, etc.)</span></span></li>\n	<li style="font-size:12pt\;font-family:Times New Roman\, serif\;color:rgb(64\, 63\, 66)\;"><span style="font-family:arial\,sans-serif\;"><span style="font-size:10pt\;">When are you successful?</span></span></li>\n</ul>\n
LOCATION:Colorado Office of Economic Development and International Trade 1625 Broadway\, 8th Floor Conference Room Denver\, CO 80202
UID:e.825.1159
SEQUENCE:3
DTSTAMP:20260422T110352Z
URL:https://members.cbcc.biz/events/details/strategies-for-growth-in-the-contracting-world-1159
END:VEVENT

END:VCALENDAR
