BEGIN:VCALENDAR
VERSION:2.0
PRODID:-//ChamberMaster//Event Calendar 2.0//EN
METHOD:PUBLISH
X-PUBLISHED-TTL:P3D
REFRESH-INTERVAL:P3D
CALSCALE:GREGORIAN
BEGIN:VEVENT
DTSTART:20190201T160000Z
DTEND:20190201T230000Z
X-MICROSOFT-CDO-ALLDAYEVENT:FALSE
SUMMARY:Substitute Teacher and Paraprofessional Hiring Fair - 2/1/2019
DESCRIPTION:Denver Public Schools has part-time employment opportunities available. We offer flexible hours so you can work as little or as much as you want. You will get paid twice a month and work is available throughout the Denver area.\n\n\n\nDaily Substitute: $212 a day and $250 per day for Super Subs and Retired Subs (*increased rate during teacher strike period)\n\n\n\nSPED Substitute Para: $14.39 per hour\n\n\n\nECE Substitute Para: $13.00 per hour\n\n\n\nBe sure to bring your current license\, two forms of identification (such as driver's license\, social security card\, birth certificate\, passport)\, college transcripts and resume.
X-ALT-DESC;FMTTYPE=text/html:<span style="color:rgb(29\, 33\, 41)\; font-family:helvetica\,arial\,sans-serif\; font-size:14px">Denver Public Schools has part-time employment opportunities available. We offer flexible hours so you can work as little or as much as you want. You will get paid twice a month and work is available throughout the Denver area.</span><br />\n<br />\n<span style="color:rgb(29\, 33\, 41)\; font-family:helvetica\,arial\,sans-serif\; font-size:14px">Daily Substitute: $212 a day and $250 per day for Super Subs and Retired Subs (*increased rate during teacher strike period)</span><br />\n<br />\n<span style="color:rgb(29\, 33\, 41)\; font-family:helvetica\,arial\,sans-serif\; font-size:14px">SPED Substitute Para: $14.39 per hour</span><br />\n<br />\n<span style="color:rgb(29\, 33\, 41)\; font-family:helvetica\,arial\,sans-serif\; font-size:14px">ECE Substitute Para: $13.00 per hour</span><br />\n<br />\n<span style="color:rgb(29\, 33\, 41)\; font-family:helvetica\,arial\,sans-serif\; font-size:14px">Be sure to bring your current license\, two forms of identification (such as driver&#39\;s license\, social security card\, birth certificate\, passport)\, college transcripts and resume.</span>
LOCATION:Hilltop Bus Terminal - Denver Public Schools 2901 W 7th Ave\, Denver\, CO 80204-4118\, United States
UID:e.825.3570
SEQUENCE:3
DTSTAMP:20260426T032251Z
URL:https://members.cbcc.biz/events/details/substitute-teacher-and-paraprofessional-hiring-fair-2-1-2019-3570
END:VEVENT

END:VCALENDAR
