BEGIN:VCALENDAR
VERSION:2.0
PRODID:-//ChamberMaster//Event Calendar 2.0//EN
METHOD:PUBLISH
X-PUBLISHED-TTL:P3D
REFRESH-INTERVAL:P3D
CALSCALE:GREGORIAN
BEGIN:VEVENT
DTSTART:20190427T170000Z
DTEND:20190427T190000Z
X-MICROSOFT-CDO-ALLDAYEVENT:FALSE
SUMMARY:Summer Youth Job Fair
DESCRIPTION:Youth Summer Job Fairs Scheduled for March and April\n\n			Denver Workforce Services offers series of hiring events for young adults\, age 16 to 24\n\n			 \n\n			DENVER\, CO    Friday\, February 22\, 2019   With Denver's unemployment rate currently at 3.7 percent\, summer job opportunities are shaping up to be more promising this year than ever for young people. To connect young adults age 16-24 with summer jobs\, Denver Workforce Services is offering a series of Summer Job and Resource Fairs. Events will be held on the following dates\, featuring a wide range of hiring employers and job search resources:\n\n			\n\n			Saturday\, April 27\, 2019\n\n			11 a.m.   1 p.m.\n\n			Central Park Recreation Center\n\n			9651 E. Martin Luther King Jr. Blvd.\n\n			Denver\, CO 80238\n\n			 \n\n			The job fairs are offered for all metro area young adults\, age 16-24. Youth should be age 16 prior to May 1\, 2019 in order to attend. Attendees are encouraged to create a profile at www.ConnectingColorado.com prior to attending.\n\n			 \n\n			The events are offered by Denver Workforce Services\, in conjunction with Adams County Workforce and Business Center and Arapahoe/Douglas Works Workforce Center. The events are organized in conjunction with the Governor's Summer Job Hunt\, a long-standing statewide program that promotes successful entry in the workforce through education and workforce experience that leads to self-sufficiency. \n\n			 \n\n			 \n\n			The Denver Office of Economic Development (OED) is dedicated to advancing economic prosperity for the City of Denver\, its businesses\, neighborhoods and residents. Working with a wide variety of community partners\, OED operates to create a local environment that stimulates balanced growth through job creation\, business assistance\, housing options\, neighborhood redevelopment and the development of a skilled workforce.\n\n			 \n\n			###
X-ALT-DESC;FMTTYPE=text/html:<table border="0" cellpadding="0" cellspacing="0" style="border-collapse:collapse\;">\n	<tbody>\n		<tr style="height:671px\;">\n			<td style="width:720px\;padding:0in 5.4pt 0in 5.4pt\;height:671px\;vertical-align:top\;"><strong><span style="font-family:arial\,sans-serif\;"><span style="font-size:18.0pt\;">Youth Summer Job Fairs Scheduled for March and April</span></span></strong><br />\n			<em><span style="font-family:arial\,sans-serif\;"><span style="font-size:14.0pt\;">Denver Workforce Services offers series of hiring events for young adults\, age 16 to 24</span></span></em><br />\n			&nbsp\;<br />\n			<strong><span style="font-family:arial\,sans-serif\;">DENVER\, CO &shy\;&mdash\; Friday\, February 22\, 2019 &mdash\; </span></strong><span style="font-family:arial\,sans-serif\;">With Denver&rsquo\;s unemployment rate currently at 3.7 percent\, summer job opportunities are shaping up to be more promising this year than ever for young people. To connect young adults age 16-24 with summer jobs\, Denver Workforce Services is offering a series of Summer Job and Resource Fairs. Events will be held on the following dates\, featuring a wide range of hiring employers and job search resources:</span><br />\n			<br />\n			<strong><span style="font-family:arial\,sans-serif\;">Saturday\, April 27\, 2019</span></strong><br />\n			<span style="font-family:arial\,sans-serif\;">11 a.m. &ndash\; 1 p.m.</span><br />\n			<span style="font-family:arial\,sans-serif\;">Central Park Recreation Center</span><br />\n			<span style="font-family:arial\,sans-serif\;">9651 E. Martin Luther King Jr. Blvd.</span><br />\n			<span style="font-family:arial\,sans-serif\;">Denver\, CO 80238</span><br />\n			&nbsp\;<br />\n			<span style="font-family:arial\,sans-serif\;">The job fairs are offered for all metro area young adults\, age 16-24. Youth should be age 16 prior to May 1\, 2019 in order to attend. Attendees are encouraged to create a profile at </span><a href="http://www.ConnectingColorado.com"><span style="font-family:arial\,sans-serif\;">www.ConnectingColorado.com</span></a><span style="font-family:arial\,sans-serif\;"> prior to attending.</span><br />\n			&nbsp\;<br />\n			<span style="font-family:arial\,sans-serif\;">The events are offered by Denver Workforce Services\, in conjunction with Adams County Workforce and Business Center and Arapahoe/Douglas Works Workforce Center. The events are organized in conjunction with the Governor&rsquo\;s Summer Job Hunt\, a long-standing statewide program that promotes successful entry in the workforce through education and workforce experience that leads to self-sufficiency. </span><br />\n			&nbsp\;<br />\n			&nbsp\;<br />\n			<em><span style="font-family:arial\,sans-serif\;"><span style="font-size:11.0pt\;">The Denver Office of Economic Development (OED)&nbsp\;is dedicated to advancing economic prosperity for the City of Denver\, its businesses\, neighborhoods and residents. Working with a wide variety of community partners\, OED operates to create a local environment that stimulates balanced growth through job creation\, business assistance\, housing options\, neighborhood redevelopment and the development of a skilled workforce.</span></span></em><br />\n			&nbsp\;<br />\n			<span style="font-family:arial\,sans-serif\;">###</span><br />\n			&nbsp\;</td>\n		</tr>\n	</tbody>\n</table>\n
LOCATION:Central Park Recreation Center 9651 E. Martin Luther King Jr. Blvd. Denver\, CO 80238
UID:e.825.3643
SEQUENCE:3
DTSTAMP:20260426T015005Z
URL:https://members.cbcc.biz/events/details/summer-youth-job-fair-3643
END:VEVENT

END:VCALENDAR
