BEGIN:VCALENDAR
VERSION:2.0
PRODID:-//ChamberMaster//Event Calendar 2.0//EN
METHOD:PUBLISH
X-PUBLISHED-TTL:P3D
REFRESH-INTERVAL:P3D
CALSCALE:GREGORIAN
BEGIN:VEVENT
DTSTART:20190322T000000Z
DTEND:20190322T020000Z
X-MICROSOFT-CDO-ALLDAYEVENT:FALSE
SUMMARY:Talking Politics Happy Hour
DESCRIPTION:On Thursday\, March 21st\, join us for our first Talking Politics Happy Hour of 2019!\n\n						 \n\n						Please join us for lively cocktails and spirited\, political dialogue with people just like you... conscious members of the Community!!!  Our Talking Politics Happy Hour event will be held from 6pm-8pm at The Kasbah (15373 East 6th Avenue\, Aurora\, Colorado 80011)\, a local black-owned lounge in Aurora! \n\n						\n\n						Everyone is welcome (even non-members)! No need to be an expert on politics. We will discuss local and national hot topics. Come learn more\, network\, and join the discussion! \n\n						\n\n						Please come support the organization and local business! Food and drinks are available for purchase (at special happy hour prices)! No RSVP necessary.
X-ALT-DESC;FMTTYPE=text/html:<table align="left" border="0" cellpadding="0" cellspacing="0" style="width:100.0%\;border-collapse:collapse\;margin-left:-2.25pt\;margin-right:-2.25pt\;" width="100%">\n	<tbody>\n		<tr>\n			<td style="width:598px\;padding:0in 0in 0in 0in\;vertical-align:top\;">\n			<table align="left" border="0" cellpadding="0" cellspacing="0" style="width:100.0%\;border-collapse:collapse\;" width="100%">\n				<tbody>\n					<tr>\n						<td style="padding:0in 13.5pt 6.75pt 13.5pt\;vertical-align:top\;"><span style="color:#434547\;"><span style="font-family:georgia\,serif\;"><span style="font-size:10.5pt\;">On<strong><span style="font-family:georgia\,serif\;"> Thursday\, March 21st\,</span></strong> join us for our first <a href="https://cbwpa.us16.list-manage.com/track/click?u=ecdb615b877aa6ff6f87c27c3&amp\;id=06cec23a24&amp\;e=c797f63fd9" target="_blank"><span style="color:#9F590E\;">Talking Politics Happy Hour</span></a> of 2019!<br />\n						&nbsp\;<br />\n						Please join us for lively cocktails and spirited\, political dialogue with people just like you...&nbsp\;conscious members of the Community!!!&nbsp\;&nbsp\;Our Talking Politics Happy Hour event will be held from<strong><span style="font-family:georgia\,serif\;"> 6pm-8pm</span></strong> at <strong><span style="font-family:georgia\,serif\;">The Kasbah (15373 East 6th Avenue\, Aurora\, Colorado 80011)\,</span></strong> a local black-owned lounge in Aurora!&nbsp\;<br />\n						<br />\n						Everyone is welcome (even non-members)! No need to be an expert on politics. We will discuss local and national hot topics. Come learn more\, network\, and join the discussion!&nbsp\;<br />\n						<br />\n						Please come support the organization and local business!&nbsp\;Food and drinks are available for purchase (at special happy hour prices)! No RSVP necessary.&nbsp\;</span></span></span></td>\n					</tr>\n				</tbody>\n			</table>\n			</td>\n		</tr>\n	</tbody>\n</table>\n
LOCATION:The Kasbah 15373 E. 6th Ave Aurora\, CO 80011
UID:e.825.3586
SEQUENCE:3
DTSTAMP:20260426T015823Z
URL:https://members.cbcc.biz/events/details/talking-politics-happy-hour-3586
END:VEVENT

END:VCALENDAR
