BEGIN:VCALENDAR
VERSION:2.0
PRODID:-//ChamberMaster//Event Calendar 2.0//EN
METHOD:PUBLISH
X-PUBLISHED-TTL:P3D
REFRESH-INTERVAL:P3D
CALSCALE:GREGORIAN
BEGIN:VEVENT
DTSTART:20190202T210000Z
DTEND:20190202T214500Z
X-MICROSOFT-CDO-ALLDAYEVENT:FALSE
SUMMARY:Teen Q&A with Jordan Casteel at Denver Art Museum
DESCRIPTION:Join us on February 2nd during Free First Saturday at the Denver Art Museum for a teen-led conversation with artist Jordan Casteel in conjunction with the opening of the exhibition "Jordan Casteel: Returning the Gaze." Admission is FREE\, however\, registration in advance is required to attend: https://bit.ly/2AEePBm\n\n\n\nTeen panelists from:\n\nPlatteForum\n\nArt Students League of Denver\n\nEast High School\n\nProject Voyce\n\n\n\nGeneral admission to the museum is FREE for everyone on February 2nd. Please note\, "Dior: From Paris to the World" is not included in general admission and requires a separate ticket.\n\n\n\nPlease email teenprograms@denverartmuseum.org with any questions.\n\n\n\nWant to bring a group?\n\nVisit denverartmuseum.org/field-trips-transportation to apply for a transportation scholarship.\n\n\n\nImage: Jordan Casteel\, Joe and Mozel (Pompette Wines)\, 2017. Oil on canvas\; 90 x 78 in. Collection of Lonti Ebers. Image courtesy of the artist and Casey Kaplan\, New York   Jordan Casteel
X-ALT-DESC;FMTTYPE=text/html:<span style="color:rgb(29\, 33\, 41)\; font-family:helvetica\,arial\,sans-serif\; font-size:14px">Join us on February 2nd during Free First Saturday at the Denver Art Museum for a teen-led conversation with artist Jordan Casteel in conjunction with the opening of the exhibition &quot\;Jordan Casteel: Returning the Gaze.&quot\;&nbsp\;</span><span style="color:rgb(29\, 33\, 41)\; font-family:helvetica\,arial\,sans-serif\; font-size:14px">Admission is FREE\, however\, registration in advance is required to attend: </span><a href="https://bit.ly/2AEePBm?fbclid=IwAR0TtebFgK2I4y4Mj3UXG_jxDJ-ydA1bvivUl1FHhVCHMJQF6h9xzE1cM6Q" rel="nofollow noopener" style="color: rgb(54\, 88\, 153)\; cursor: pointer\; text-decoration-line: none\; font-family: Helvetica\, Arial\, sans-serif\; font-size: 14px\; white-space: pre-wrap\;" target="_blank">https://bit.ly/2AEePBm</a><br />\n<br />\n<span style="color:rgb(29\, 33\, 41)\; font-family:helvetica\,arial\,sans-serif\; font-size:14px">Teen panelists from:</span><br />\n<span style="color:rgb(29\, 33\, 41)\; font-family:helvetica\,arial\,sans-serif\; font-size:14px">PlatteForum</span><br />\n<span style="color:rgb(29\, 33\, 41)\; font-family:helvetica\,arial\,sans-serif\; font-size:14px">Art Students League of Denver</span><br />\n<span style="color:rgb(29\, 33\, 41)\; font-family:helvetica\,arial\,sans-serif\; font-size:14px">East High School</span><br />\n<span style="color:rgb(29\, 33\, 41)\; font-family:helvetica\,arial\,sans-serif\; font-size:14px">Project Voyce</span><br />\n<br />\n<span style="color:rgb(29\, 33\, 41)\; font-family:helvetica\,arial\,sans-serif\; font-size:14px">General admission to the museum is FREE for everyone on February 2nd. Please note\, &quot\;Dior: From Paris to the World&quot\; is not included in general admission and requires a separate ticket.</span><br />\n<br />\n<span style="color:rgb(29\, 33\, 41)\; font-family:helvetica\,arial\,sans-serif\; font-size:14px">Please email teenprograms@denverartmuseum.org with any questions.</span><br />\n<br />\n<span style="color:rgb(29\, 33\, 41)\; font-family:helvetica\,arial\,sans-serif\; font-size:14px">Want to bring a group?</span><br />\n<span style="color:rgb(29\, 33\, 41)\; font-family:helvetica\,arial\,sans-serif\; font-size:14px">Visit </span><a href="http://denverartmuseum.org/field-trips-transportation?fbclid=IwAR3YejsSAICDne_W_TC7dT7ppthgeJ2e685gzgCeboF-bpnbNwk1_dHyqyU" rel="nofollow noopener" style="color: rgb(54\, 88\, 153)\; cursor: pointer\; text-decoration-line: none\; font-family: Helvetica\, Arial\, sans-serif\; font-size: 14px\; white-space: pre-wrap\;" target="_blank">denverartmuseum.org/field-trips-transportation</a><span style="color:rgb(29\, 33\, 41)\; font-family:helvetica\,arial\,sans-serif\; font-size:14px"> to apply for a transportation scholarship.</span><br />\n<br />\n<span style="color:rgb(29\, 33\, 41)\; font-family:helvetica\,arial\,sans-serif\; font-size:14px">Image: Jordan Casteel\, Joe and Mozel (Pompette Wines)\, 2017. Oil on canvas\; 90 x 78 in. Collection of Lonti Ebers. Image courtesy of the artist and Casey Kaplan\, New York &copy\; Jordan Casteel</span>
LOCATION:Denver Art Museum 100 W. 14th Ave. Parkway Denver\, CO 80204
UID:e.825.3544
SEQUENCE:3
DTSTAMP:20260426T032333Z
URL:https://members.cbcc.biz/events/details/teen-q-a-with-jordan-casteel-at-denver-art-museum-3544
END:VEVENT

END:VCALENDAR
