BEGIN:VCALENDAR
VERSION:2.0
PRODID:-//ChamberMaster//Event Calendar 2.0//EN
METHOD:PUBLISH
X-PUBLISHED-TTL:P3D
REFRESH-INTERVAL:P3D
CALSCALE:GREGORIAN
BEGIN:VEVENT
DTSTART:20190720T190000Z
DTEND:20190720T203000Z
X-MICROSOFT-CDO-ALLDAYEVENT:FALSE
SUMMARY:The Color of Conversation Film Festival: Best in Shorts
DESCRIPTION:five captivating short films will be shown during the Color of Conversation Best of Shorts screening session.
X-ALT-DESC;FMTTYPE=text/html:five captivating short films will be shown during the Color of Conversation Best of Shorts screening session.
LOCATION:
UID:e.825.3868
SEQUENCE:3
DTSTAMP:20260425T201617Z
URL:https://members.cbcc.biz/events/details/the-color-of-conversation-film-festival-best-in-shorts-3868
END:VEVENT

END:VCALENDAR
