BEGIN:VCALENDAR
VERSION:2.0
PRODID:-//ChamberMaster//Event Calendar 2.0//EN
METHOD:PUBLISH
X-PUBLISHED-TTL:P3D
REFRESH-INTERVAL:P3D
CALSCALE:GREGORIAN
BEGIN:VEVENT
DTSTART:20190719T020000Z
DTEND:20190719T040000Z
X-MICROSOFT-CDO-ALLDAYEVENT:FALSE
SUMMARY:The Color of Conversation Film Festival co-present a retrospective screening of Emanuel
DESCRIPTION:8:00p-10:00p   Color of Conversation and screening of Emanuel followed by a Q&A with Julius Tennon of Juvee Productions\, owned by Viola Davis and Julius Tennon.\n\nSynopsis: On June 17\, 2015\, a white supremacist walks into a bible study at the Emanuel African Methodist Episcopal Church and guns down nine African Americans. This is the story of the victims and survivors of that night.\n\nAbout JuVee Productions    an award winning\, artist driven production company from Viola Davis and Julius Tennon that develops and produces independent film\, television\, theater\, VR and digital content across all spaces of narrative entertainment.
X-ALT-DESC;FMTTYPE=text/html:<p style="background-color: transparent\; border-bottom-color: rgb(66\, 37\, 19)\; border-bottom-style: none\; border-bottom-width: 0px\; border-image-outset: 0\; border-image-repeat: stretch\; border-image-slice: 100%\; border-image-source: none\; border-image-width: 1\; border-left-color: rgb(66\, 37\, 19)\; border-left-style: none\; border-left-width: 0px\; border-right-color: rgb(66\, 37\, 19)\; border-right-style: none\; border-right-width: 0px\; border-top-color: rgb(66\, 37\, 19)\; border-top-style: none\; border-top-width: 0px\; box-sizing: content-box\; color: rgb(66\, 37\, 19)\; font-family: Lato\; font-size: 18px\; font-style: normal\; font-variant: normal\; font-weight: 400\; letter-spacing: normal\; line-height: 29.88px\; margin-bottom: 20px\; margin-left: 0px\; margin-right: 0px\; margin-top: 0px\; orphans: 2\; padding-bottom: 0px\; padding-left: 0px\; padding-right: 0px\; padding-top: 0px\; text-align: left\; text-decoration: none\; text-indent: 0px\; text-transform: none\; vertical-align: baseline\; -webkit-text-stroke-width: 0px\; white-space: normal\; word-spacing: 0px\; word-wrap: break-word\;"><span style="color:#000000\;"><strong style="background-color: transparent\; border-bottom-color: rgb(66\, 37\, 19)\; border-bottom-style: none\; border-bottom-width: 0px\; border-image-outset: 0\; border-image-repeat: stretch\; border-image-slice: 100%\; border-image-source: none\; border-image-width: 1\; border-left-color: rgb(66\, 37\, 19)\; border-left-style: none\; border-left-width: 0px\; border-right-color: rgb(66\, 37\, 19)\; border-right-style: none\; border-right-width: 0px\; border-top-color: rgb(66\, 37\, 19)\; border-top-style: none\; border-top-width: 0px\; box-sizing: content-box\; color: rgb(66\, 37\, 19)\; font-size: 18px\; font-weight: 700\; margin-bottom: 0px\; margin-left: 0px\; margin-right: 0px\; margin-top: 0px\; padding-bottom: 0px\; padding-left: 0px\; padding-right: 0px\; padding-top: 0px\; vertical-align: baseline\;">8:00p-10:00p</strong> &ndash\; <strong style="background-color: transparent\; border-bottom-color: rgb(66\, 37\, 19)\; border-bottom-style: none\; border-bottom-width: 0px\; border-image-outset: 0\; border-image-repeat: stretch\; border-image-slice: 100%\; border-image-source: none\; border-image-width: 1\; border-left-color: rgb(66\, 37\, 19)\; border-left-style: none\; border-left-width: 0px\; border-right-color: rgb(66\, 37\, 19)\; border-right-style: none\; border-right-width: 0px\; border-top-color: rgb(66\, 37\, 19)\; border-top-style: none\; border-top-width: 0px\; box-sizing: content-box\; color: rgb(66\, 37\, 19)\; font-size: 18px\; font-weight: 700\; margin-bottom: 0px\; margin-left: 0px\; margin-right: 0px\; margin-top: 0px\; padding-bottom: 0px\; padding-left: 0px\; padding-right: 0px\; padding-top: 0px\; vertical-align: baseline\;"><span style="margin: 0px\; padding: 0px\; border: 0px rgb(73\, 140\, 173)\; border-image: none\; font-size: 18px\; vertical-align: baseline\; box-sizing: content-box\; background-color: transparent\;">C</span>o<span style="margin: 0px\; padding: 0px\; border: 0px rgb(238\, 110\, 45)\; border-image: none\; font-size: 18px\; vertical-align: baseline\; box-sizing: content-box\; background-color: transparent\;">l</span>o<span style="margin: 0px\; padding: 0px\; border: 0px rgb(59\, 180\, 75)\; border-image: none\; font-size: 18px\; vertical-align: baseline\; box-sizing: content-box\; background-color: transparent\;">r</span> <span style="margin: 0px\; padding: 0px\; border: 0px rgb(66\, 37\, 19)\; border-image: none\; font-size: 18px\; font-style: italic\; font-weight: 400\; vertical-align: baseline\; box-sizing: content-box\; background-color: transparent\;">of</span> Conversation and screening of <em style="background-color: transparent\; border-bottom-color: rgb(66\, 37\, 19)\; border-bottom-style: none\; border-bottom-width: 0px\; border-image-outset: 0\; border-image-repeat: stretch\; border-image-slice: 100%\; border-image-source: none\; border-image-width: 1\; border-left-color: rgb(66\, 37\, 19)\; border-left-style: none\; border-left-width: 0px\; border-right-color: rgb(66\, 37\, 19)\; border-right-style: none\; border-right-width: 0px\; border-top-color: rgb(66\, 37\, 19)\; border-top-style: none\; border-top-width: 0px\; box-sizing: content-box\; color: rgb(66\, 37\, 19)\; font-size: 18px\; font-style: italic\; margin-bottom: 0px\; margin-left: 0px\; margin-right: 0px\; margin-top: 0px\; padding-bottom: 0px\; padding-left: 0px\; padding-right: 0px\; padding-top: 0px\; vertical-align: baseline\;">Emanuel</em></strong> followed by a Q&amp\;A with Julius Tennon of Juvee Productions\, owned by Viola Davis and Julius Tennon.</span></p>\n\n<p style="background-color: transparent\; border-bottom-color: rgb(66\, 37\, 19)\; border-bottom-style: none\; border-bottom-width: 0px\; border-image-outset: 0\; border-image-repeat: stretch\; border-image-slice: 100%\; border-image-source: none\; border-image-width: 1\; border-left-color: rgb(66\, 37\, 19)\; border-left-style: none\; border-left-width: 0px\; border-right-color: rgb(66\, 37\, 19)\; border-right-style: none\; border-right-width: 0px\; border-top-color: rgb(66\, 37\, 19)\; border-top-style: none\; border-top-width: 0px\; box-sizing: content-box\; color: rgb(66\, 37\, 19)\; font-family: Lato\; font-size: 18px\; font-style: normal\; font-variant: normal\; font-weight: 400\; letter-spacing: normal\; line-height: 29.88px\; margin-bottom: 20px\; margin-left: 0px\; margin-right: 0px\; margin-top: 0px\; orphans: 2\; padding-bottom: 0px\; padding-left: 0px\; padding-right: 0px\; padding-top: 0px\; text-align: left\; text-decoration: none\; text-indent: 0px\; text-transform: none\; vertical-align: baseline\; -webkit-text-stroke-width: 0px\; white-space: normal\; word-spacing: 0px\; word-wrap: break-word\;"><span style="color:#000000\;"><strong style="background-color: transparent\; border-bottom-color: rgb(66\, 37\, 19)\; border-bottom-style: none\; border-bottom-width: 0px\; border-image-outset: 0\; border-image-repeat: stretch\; border-image-slice: 100%\; border-image-source: none\; border-image-width: 1\; border-left-color: rgb(66\, 37\, 19)\; border-left-style: none\; border-left-width: 0px\; border-right-color: rgb(66\, 37\, 19)\; border-right-style: none\; border-right-width: 0px\; border-top-color: rgb(66\, 37\, 19)\; border-top-style: none\; border-top-width: 0px\; box-sizing: content-box\; color: rgb(66\, 37\, 19)\; font-size: 18px\; font-weight: 700\; margin-bottom: 0px\; margin-left: 0px\; margin-right: 0px\; margin-top: 0px\; padding-bottom: 0px\; padding-left: 0px\; padding-right: 0px\; padding-top: 0px\; vertical-align: baseline\;">Synopsis:&nbsp\;</strong>On June 17\, 2015\, a white supremacist walks into a bible study at the Emanuel African Methodist Episcopal Church and guns down nine African Americans.&nbsp\;<span style="margin: 0px\; padding: 0px\; border: 0px rgb(66\, 37\, 19)\; border-image: none\; font-size: 18px\; vertical-align: baseline\; box-sizing: content-box\; background-color: transparent\;">This is the story of the victims and survivors of that night.</span></span></p>\n\n<p style="background-color: transparent\; border-bottom-color: rgb(66\, 37\, 19)\; border-bottom-style: none\; border-bottom-width: 0px\; border-image-outset: 0\; border-image-repeat: stretch\; border-image-slice: 100%\; border-image-source: none\; border-image-width: 1\; border-left-color: rgb(66\, 37\, 19)\; border-left-style: none\; border-left-width: 0px\; border-right-color: rgb(66\, 37\, 19)\; border-right-style: none\; border-right-width: 0px\; border-top-color: rgb(66\, 37\, 19)\; border-top-style: none\; border-top-width: 0px\; box-sizing: content-box\; color: rgb(66\, 37\, 19)\; font-family: Lato\; font-size: 18px\; font-style: normal\; font-variant: normal\; font-weight: 400\; letter-spacing: normal\; line-height: 29.88px\; margin-bottom: 20px\; margin-left: 0px\; margin-right: 0px\; margin-top: 0px\; orphans: 2\; padding-bottom: 0px\; padding-left: 0px\; padding-right: 0px\; padding-top: 0px\; text-align: left\; text-decoration: none\; text-indent: 0px\; text-transform: none\; vertical-align: baseline\; -webkit-text-stroke-width: 0px\; white-space: normal\; word-spacing: 0px\; word-wrap: break-word\;"><span style="color:#000000\;"><strong style="background-color: transparent\; border-bottom-color: rgb(66\, 37\, 19)\; border-bottom-style: none\; border-bottom-width: 0px\; border-image-outset: 0\; border-image-repeat: stretch\; border-image-slice: 100%\; border-image-source: none\; border-image-width: 1\; border-left-color: rgb(66\, 37\, 19)\; border-left-style: none\; border-left-width: 0px\; border-right-color: rgb(66\, 37\, 19)\; border-right-style: none\; border-right-width: 0px\; border-top-color: rgb(66\, 37\, 19)\; border-top-style: none\; border-top-width: 0px\; box-sizing: content-box\; color: rgb(66\, 37\, 19)\; font-size: 18px\; font-weight: 700\; margin-bottom: 0px\; margin-left: 0px\; margin-right: 0px\; margin-top: 0px\; padding-bottom: 0px\; padding-left: 0px\; padding-right: 0px\; padding-top: 0px\; vertical-align: baseline\;">About JuVee Productions</strong> &ndash\; &nbsp\;an award winning\, artist driven production company from Viola Davis and Julius Tennon that develops and produces independent film\, television\, theater\, VR and digital content across all spaces of narrative entertainment.</span></p>\n
LOCATION:The Newman Center for Performing Arts at Denver University
UID:e.825.3867
SEQUENCE:3
DTSTAMP:20260425T201531Z
URL:https://members.cbcc.biz/events/details/the-color-of-conversation-film-festival-co-present-a-retrospective-screening-of-emanuel-3867
END:VEVENT

END:VCALENDAR
