BEGIN:VCALENDAR
VERSION:2.0
PRODID:-//ChamberMaster//Event Calendar 2.0//EN
METHOD:PUBLISH
X-PUBLISHED-TTL:P3D
REFRESH-INTERVAL:P3D
CALSCALE:GREGORIAN
BEGIN:VEVENT
DTSTART:20190721T020000Z
DTEND:20190721T033000Z
X-MICROSOFT-CDO-ALLDAYEVENT:FALSE
SUMMARY:The Color of Conversation Film Festival: Frank's Place Screening
DESCRIPTION:With: Emmy-nominated actor\, director and producer\, Tim Reid\n\nModerated by: Cultural Critic- Lisa Kennedy\n\nSynopsis: "Frank's Place" is an American comedy-drama series that aired on CBS for 22 episodes during the 1987-1988 television season. Set in New Orleans\, "Frank's Place" chronicles the life of Frank Parrish (Tim Reid)\, a well-to-do African-American professor at Brown University\, an Ivy League university in Providence\, Rhode Island\, who inherits a restaurant\, Chez Louisiane.
X-ALT-DESC;FMTTYPE=text/html:<b><font color="#422513" size="4">With:</font></b><span style="display: inline !important\; float: none\; background-color: transparent\; color: rgb(66\, 37\, 19)\; font-family: Lato\; font-size: 18px\; font-style: normal\; font-variant: normal\; font-weight: 400\; letter-spacing: normal\; line-height: 29.88px\; orphans: 2\; text-align: left\; text-decoration: none\; text-indent: 0px\; text-transform: none\; -webkit-text-stroke-width: 0px\; white-space: normal\; word-spacing: 0px\; word-wrap: break-word\;"> Emmy-nominated actor\, director and producer\, Tim Reid</span><br style="background-color: transparent\; box-sizing: content-box\; color: rgb(66\, 37\, 19)\; font-family: Lato\; font-size: 18px\; font-style: normal\; font-variant: normal\; font-weight: 400\; letter-spacing: normal\; orphans: 2\; text-align: left\; text-decoration: none\; text-indent: 0px\; text-transform: none\; -webkit-text-stroke-width: 0px\; white-space: normal\; word-spacing: 0px\;" />\n<strong style="background-color: transparent\; border-bottom-color: rgb(66\, 37\, 19)\; border-bottom-style: none\; border-bottom-width: 0px\; border-image-outset: 0\; border-image-repeat: stretch\; border-image-slice: 100%\; border-image-source: none\; border-image-width: 1\; border-left-color: rgb(66\, 37\, 19)\; border-left-style: none\; border-left-width: 0px\; border-right-color: rgb(66\, 37\, 19)\; border-right-style: none\; border-right-width: 0px\; border-top-color: rgb(66\, 37\, 19)\; border-top-style: none\; border-top-width: 0px\; box-sizing: content-box\; color: rgb(66\, 37\, 19)\; font-family: Lato\; font-size: 18px\; font-style: normal\; font-variant: normal\; font-weight: 700\; letter-spacing: normal\; margin-bottom: 0px\; margin-left: 0px\; margin-right: 0px\; margin-top: 0px\; orphans: 2\; padding-bottom: 0px\; padding-left: 0px\; padding-right: 0px\; padding-top: 0px\; text-align: left\; text-decoration: none\; text-indent: 0px\; text-transform: none\; vertical-align: baseline\; -webkit-text-stroke-width: 0px\; white-space: normal\; word-spacing: 0px\;">Moderated by:</strong><span style="display: inline !important\; float: none\; background-color: transparent\; color: rgb(66\, 37\, 19)\; font-family: Lato\; font-size: 18px\; font-style: normal\; font-variant: normal\; font-weight: 400\; letter-spacing: normal\; line-height: 29.88px\; orphans: 2\; text-align: left\; text-decoration: none\; text-indent: 0px\; text-transform: none\; -webkit-text-stroke-width: 0px\; white-space: normal\; word-spacing: 0px\; word-wrap: break-word\;"> Cultural Critic- Lisa Kennedy</span><br style="background-color: transparent\; box-sizing: content-box\; color: rgb(66\, 37\, 19)\; font-family: Lato\; font-size: 18px\; font-style: normal\; font-variant: normal\; font-weight: 400\; letter-spacing: normal\; orphans: 2\; text-align: left\; text-decoration: none\; text-indent: 0px\; text-transform: none\; -webkit-text-stroke-width: 0px\; white-space: normal\; word-spacing: 0px\;" />\n<strong style="background-color: transparent\; border-bottom-color: rgb(66\, 37\, 19)\; border-bottom-style: none\; border-bottom-width: 0px\; border-image-outset: 0\; border-image-repeat: stretch\; border-image-slice: 100%\; border-image-source: none\; border-image-width: 1\; border-left-color: rgb(66\, 37\, 19)\; border-left-style: none\; border-left-width: 0px\; border-right-color: rgb(66\, 37\, 19)\; border-right-style: none\; border-right-width: 0px\; border-top-color: rgb(66\, 37\, 19)\; border-top-style: none\; border-top-width: 0px\; box-sizing: content-box\; color: rgb(66\, 37\, 19)\; font-family: Lato\; font-size: 18px\; font-style: normal\; font-variant: normal\; font-weight: 700\; letter-spacing: normal\; margin-bottom: 0px\; margin-left: 0px\; margin-right: 0px\; margin-top: 0px\; orphans: 2\; padding-bottom: 0px\; padding-left: 0px\; padding-right: 0px\; padding-top: 0px\; text-align: left\; text-decoration: none\; text-indent: 0px\; text-transform: none\; vertical-align: baseline\; -webkit-text-stroke-width: 0px\; white-space: normal\; word-spacing: 0px\;">Synopsis:</strong><span style="display: inline !important\; float: none\; background-color: transparent\; color: rgb(66\, 37\, 19)\; font-family: Lato\; font-size: 18px\; font-style: normal\; font-variant: normal\; font-weight: 400\; letter-spacing: normal\; line-height: 29.88px\; orphans: 2\; text-align: left\; text-decoration: none\; text-indent: 0px\; text-transform: none\; -webkit-text-stroke-width: 0px\; white-space: normal\; word-spacing: 0px\; word-wrap: break-word\;">&nbsp\;&ldquo\;Frank&rsquo\;s Place&rdquo\;</span><span style="background-color: transparent\; border-bottom-color: rgb(66\, 37\, 19)\; border-bottom-style: none\; border-bottom-width: 0px\; border-image-outset: 0\; border-image-repeat: stretch\; border-image-slice: 100%\; border-image-source: none\; border-image-width: 1\; border-left-color: rgb(66\, 37\, 19)\; border-left-style: none\; border-left-width: 0px\; border-right-color: rgb(66\, 37\, 19)\; border-right-style: none\; border-right-width: 0px\; border-top-color: rgb(66\, 37\, 19)\; border-top-style: none\; border-top-width: 0px\; box-sizing: content-box\; color: rgb(66\, 37\, 19)\; font-family: Lato\; font-size: 18px\; font-style: normal\; font-variant: normal\; font-weight: 400\; letter-spacing: normal\; margin-bottom: 0px\; margin-left: 0px\; margin-right: 0px\; margin-top: 0px\; orphans: 2\; padding-bottom: 0px\; padding-left: 0px\; padding-right: 0px\; padding-top: 0px\; text-align: left\; text-decoration: none\; text-indent: 0px\; text-transform: none\; vertical-align: baseline\; -webkit-text-stroke-width: 0px\; white-space: normal\; word-spacing: 0px\;">&nbsp\;is an American&nbsp\;</span><span style="display: inline !important\; float: none\; background-color: transparent\; color: rgb(66\, 37\, 19)\; font-family: Lato\; font-size: 18px\; font-style: normal\; font-variant: normal\; font-weight: 400\; letter-spacing: normal\; line-height: 29.88px\; orphans: 2\; text-align: left\; text-decoration: none\; text-indent: 0px\; text-transform: none\; -webkit-text-stroke-width: 0px\; white-space: normal\; word-spacing: 0px\; word-wrap: break-word\;">comedy-drama</span><span style="background-color: transparent\; border-bottom-color: rgb(66\, 37\, 19)\; border-bottom-style: none\; border-bottom-width: 0px\; border-image-outset: 0\; border-image-repeat: stretch\; border-image-slice: 100%\; border-image-source: none\; border-image-width: 1\; border-left-color: rgb(66\, 37\, 19)\; border-left-style: none\; border-left-width: 0px\; border-right-color: rgb(66\, 37\, 19)\; border-right-style: none\; border-right-width: 0px\; border-top-color: rgb(66\, 37\, 19)\; border-top-style: none\; border-top-width: 0px\; box-sizing: content-box\; color: rgb(66\, 37\, 19)\; font-family: Lato\; font-size: 18px\; font-style: normal\; font-variant: normal\; font-weight: 400\; letter-spacing: normal\; margin-bottom: 0px\; margin-left: 0px\; margin-right: 0px\; margin-top: 0px\; orphans: 2\; padding-bottom: 0px\; padding-left: 0px\; padding-right: 0px\; padding-top: 0px\; text-align: left\; text-decoration: none\; text-indent: 0px\; text-transform: none\; vertical-align: baseline\; -webkit-text-stroke-width: 0px\; white-space: normal\; word-spacing: 0px\;">&nbsp\;series that aired on&nbsp\;</span><span style="display: inline !important\; float: none\; background-color: transparent\; color: rgb(66\, 37\, 19)\; font-family: Lato\; font-size: 18px\; font-style: normal\; font-variant: normal\; font-weight: 400\; letter-spacing: normal\; line-height: 29.88px\; orphans: 2\; text-align: left\; text-decoration: none\; text-indent: 0px\; text-transform: none\; -webkit-text-stroke-width: 0px\; white-space: normal\; word-spacing: 0px\; word-wrap: break-word\;">CBS</span><span style="background-color: transparent\; border-bottom-color: rgb(66\, 37\, 19)\; border-bottom-style: none\; border-bottom-width: 0px\; border-image-outset: 0\; border-image-repeat: stretch\; border-image-slice: 100%\; border-image-source: none\; border-image-width: 1\; border-left-color: rgb(66\, 37\, 19)\; border-left-style: none\; border-left-width: 0px\; border-right-color: rgb(66\, 37\, 19)\; border-right-style: none\; border-right-width: 0px\; border-top-color: rgb(66\, 37\, 19)\; border-top-style: none\; border-top-width: 0px\; box-sizing: content-box\; color: rgb(66\, 37\, 19)\; font-family: Lato\; font-size: 18px\; font-style: normal\; font-variant: normal\; font-weight: 400\; letter-spacing: normal\; margin-bottom: 0px\; margin-left: 0px\; margin-right: 0px\; margin-top: 0px\; orphans: 2\; padding-bottom: 0px\; padding-left: 0px\; padding-right: 0px\; padding-top: 0px\; text-align: left\; text-decoration: none\; text-indent: 0px\; text-transform: none\; vertical-align: baseline\; -webkit-text-stroke-width: 0px\; white-space: normal\; word-spacing: 0px\;">&nbsp\;for 22 episodes during the&nbsp\;</span><span style="display: inline !important\; float: none\; background-color: transparent\; color: rgb(66\, 37\, 19)\; font-family: Lato\; font-size: 18px\; font-style: normal\; font-variant: normal\; font-weight: 400\; letter-spacing: normal\; line-height: 29.88px\; orphans: 2\; text-align: left\; text-decoration: none\; text-indent: 0px\; text-transform: none\; -webkit-text-stroke-width: 0px\; white-space: normal\; word-spacing: 0px\; word-wrap: break-word\;">1987-1988 television season</span><span style="background-color: transparent\; border-bottom-color: rgb(66\, 37\, 19)\; border-bottom-style: none\; border-bottom-width: 0px\; border-image-outset: 0\; border-image-repeat: stretch\; border-image-slice: 100%\; border-image-source: none\; border-image-width: 1\; border-left-color: rgb(66\, 37\, 19)\; border-left-style: none\; border-left-width: 0px\; border-right-color: rgb(66\, 37\, 19)\; border-right-style: none\; border-right-width: 0px\; border-top-color: rgb(66\, 37\, 19)\; border-top-style: none\; border-top-width: 0px\; box-sizing: content-box\; color: rgb(66\, 37\, 19)\; font-family: Lato\; font-size: 18px\; font-style: normal\; font-variant: normal\; font-weight: 400\; letter-spacing: normal\; margin-bottom: 0px\; margin-left: 0px\; margin-right: 0px\; margin-top: 0px\; orphans: 2\; padding-bottom: 0px\; padding-left: 0px\; padding-right: 0px\; padding-top: 0px\; text-align: left\; text-decoration: none\; text-indent: 0px\; text-transform: none\; vertical-align: baseline\; -webkit-text-stroke-width: 0px\; white-space: normal\; word-spacing: 0px\;">.</span><span style="display: inline !important\; float: none\; background-color: transparent\; color: rgb(66\, 37\, 19)\; font-family: Lato\; font-size: 18px\; font-style: normal\; font-variant: normal\; font-weight: 400\; letter-spacing: normal\; line-height: 29.88px\; orphans: 2\; text-align: left\; text-decoration: none\; text-indent: 0px\; text-transform: none\; -webkit-text-stroke-width: 0px\; white-space: normal\; word-spacing: 0px\; word-wrap: break-word\;"> </span><span style="background-color: transparent\; border-bottom-color: rgb(66\, 37\, 19)\; border-bottom-style: none\; border-bottom-width: 0px\; border-image-outset: 0\; border-image-repeat: stretch\; border-image-slice: 100%\; border-image-source: none\; border-image-width: 1\; border-left-color: rgb(66\, 37\, 19)\; border-left-style: none\; border-left-width: 0px\; border-right-color: rgb(66\, 37\, 19)\; border-right-style: none\; border-right-width: 0px\; border-top-color: rgb(66\, 37\, 19)\; border-top-style: none\; border-top-width: 0px\; box-sizing: content-box\; color: rgb(66\, 37\, 19)\; font-family: Lato\; font-size: 18px\; font-style: normal\; font-variant: normal\; font-weight: 400\; letter-spacing: normal\; margin-bottom: 0px\; margin-left: 0px\; margin-right: 0px\; margin-top: 0px\; orphans: 2\; padding-bottom: 0px\; padding-left: 0px\; padding-right: 0px\; padding-top: 0px\; text-align: left\; text-decoration: none\; text-indent: 0px\; text-transform: none\; vertical-align: baseline\; -webkit-text-stroke-width: 0px\; white-space: normal\; word-spacing: 0px\;">Set in&nbsp\;</span><span style="display: inline !important\; float: none\; background-color: transparent\; color: rgb(66\, 37\, 19)\; font-family: Lato\; font-size: 18px\; font-style: normal\; font-variant: normal\; font-weight: 400\; letter-spacing: normal\; line-height: 29.88px\; orphans: 2\; text-align: left\; text-decoration: none\; text-indent: 0px\; text-transform: none\; -webkit-text-stroke-width: 0px\; white-space: normal\; word-spacing: 0px\; word-wrap: break-word\;">New Orleans</span><span style="background-color: transparent\; border-bottom-color: rgb(66\, 37\, 19)\; border-bottom-style: none\; border-bottom-width: 0px\; border-image-outset: 0\; border-image-repeat: stretch\; border-image-slice: 100%\; border-image-source: none\; border-image-width: 1\; border-left-color: rgb(66\, 37\, 19)\; border-left-style: none\; border-left-width: 0px\; border-right-color: rgb(66\, 37\, 19)\; border-right-style: none\; border-right-width: 0px\; border-top-color: rgb(66\, 37\, 19)\; border-top-style: none\; border-top-width: 0px\; box-sizing: content-box\; color: rgb(66\, 37\, 19)\; font-family: Lato\; font-size: 18px\; font-style: normal\; font-variant: normal\; font-weight: 400\; letter-spacing: normal\; margin-bottom: 0px\; margin-left: 0px\; margin-right: 0px\; margin-top: 0px\; orphans: 2\; padding-bottom: 0px\; padding-left: 0px\; padding-right: 0px\; padding-top: 0px\; text-align: left\; text-decoration: none\; text-indent: 0px\; text-transform: none\; vertical-align: baseline\; -webkit-text-stroke-width: 0px\; white-space: normal\; word-spacing: 0px\;">\, &ldquo\;</span><span style="display: inline !important\; float: none\; background-color: transparent\; color: rgb(66\, 37\, 19)\; font-family: Lato\; font-size: 18px\; font-style: normal\; font-variant: normal\; font-weight: 400\; letter-spacing: normal\; line-height: 29.88px\; orphans: 2\; text-align: left\; text-decoration: none\; text-indent: 0px\; text-transform: none\; -webkit-text-stroke-width: 0px\; white-space: normal\; word-spacing: 0px\; word-wrap: break-word\;">Frank&rsquo\;s Place&rdquo\;</span><span style="background-color: transparent\; border-bottom-color: rgb(66\, 37\, 19)\; border-bottom-style: none\; border-bottom-width: 0px\; border-image-outset: 0\; border-image-repeat: stretch\; border-image-slice: 100%\; border-image-source: none\; border-image-width: 1\; border-left-color: rgb(66\, 37\, 19)\; border-left-style: none\; border-left-width: 0px\; border-right-color: rgb(66\, 37\, 19)\; border-right-style: none\; border-right-width: 0px\; border-top-color: rgb(66\, 37\, 19)\; border-top-style: none\; border-top-width: 0px\; box-sizing: content-box\; color: rgb(66\, 37\, 19)\; font-family: Lato\; font-size: 18px\; font-style: normal\; font-variant: normal\; font-weight: 400\; letter-spacing: normal\; margin-bottom: 0px\; margin-left: 0px\; margin-right: 0px\; margin-top: 0px\; orphans: 2\; padding-bottom: 0px\; padding-left: 0px\; padding-right: 0px\; padding-top: 0px\; text-align: left\; text-decoration: none\; text-indent: 0px\; text-transform: none\; vertical-align: baseline\; -webkit-text-stroke-width: 0px\; white-space: normal\; word-spacing: 0px\;">&nbsp\;chronicles the life of Frank Parrish (Tim Reid)\, a well-to-do African-American professor at&nbsp\;</span><span style="display: inline !important\; float: none\; background-color: transparent\; color: rgb(66\, 37\, 19)\; font-family: Lato\; font-size: 18px\; font-style: normal\; font-variant: normal\; font-weight: 400\; letter-spacing: normal\; line-height: 29.88px\; orphans: 2\; text-align: left\; text-decoration: none\; text-indent: 0px\; text-transform: none\; -webkit-text-stroke-width: 0px\; white-space: normal\; word-spacing: 0px\; word-wrap: break-word\;">Brown University</span><span style="background-color: transparent\; border-bottom-color: rgb(66\, 37\, 19)\; border-bottom-style: none\; border-bottom-width: 0px\; border-image-outset: 0\; border-image-repeat: stretch\; border-image-slice: 100%\; border-image-source: none\; border-image-width: 1\; border-left-color: rgb(66\, 37\, 19)\; border-left-style: none\; border-left-width: 0px\; border-right-color: rgb(66\, 37\, 19)\; border-right-style: none\; border-right-width: 0px\; border-top-color: rgb(66\, 37\, 19)\; border-top-style: none\; border-top-width: 0px\; box-sizing: content-box\; color: rgb(66\, 37\, 19)\; font-family: Lato\; font-size: 18px\; font-style: normal\; font-variant: normal\; font-weight: 400\; letter-spacing: normal\; margin-bottom: 0px\; margin-left: 0px\; margin-right: 0px\; margin-top: 0px\; orphans: 2\; padding-bottom: 0px\; padding-left: 0px\; padding-right: 0px\; padding-top: 0px\; text-align: left\; text-decoration: none\; text-indent: 0px\; text-transform: none\; vertical-align: baseline\; -webkit-text-stroke-width: 0px\; white-space: normal\; word-spacing: 0px\;">\, an Ivy League university in&nbsp\;</span><span style="display: inline !important\; float: none\; background-color: transparent\; color: rgb(66\, 37\, 19)\; font-family: Lato\; font-size: 18px\; font-style: normal\; font-variant: normal\; font-weight: 400\; letter-spacing: normal\; line-height: 29.88px\; orphans: 2\; text-align: left\; text-decoration: none\; text-indent: 0px\; text-transform: none\; -webkit-text-stroke-width: 0px\; white-space: normal\; word-spacing: 0px\; word-wrap: break-word\;">Providence\, Rhode Island</span><span style="background-color: transparent\; border-bottom-color: rgb(66\, 37\, 19)\; border-bottom-style: none\; border-bottom-width: 0px\; border-image-outset: 0\; border-image-repeat: stretch\; border-image-slice: 100%\; border-image-source: none\; border-image-width: 1\; border-left-color: rgb(66\, 37\, 19)\; border-left-style: none\; border-left-width: 0px\; border-right-color: rgb(66\, 37\, 19)\; border-right-style: none\; border-right-width: 0px\; border-top-color: rgb(66\, 37\, 19)\; border-top-style: none\; border-top-width: 0px\; box-sizing: content-box\; color: rgb(66\, 37\, 19)\; font-family: Lato\; font-size: 18px\; font-style: normal\; font-variant: normal\; font-weight: 400\; letter-spacing: normal\; margin-bottom: 0px\; margin-left: 0px\; margin-right: 0px\; margin-top: 0px\; orphans: 2\; padding-bottom: 0px\; padding-left: 0px\; padding-right: 0px\; padding-top: 0px\; text-align: left\; text-decoration: none\; text-indent: 0px\; text-transform: none\; vertical-align: baseline\; -webkit-text-stroke-width: 0px\; white-space: normal\; word-spacing: 0px\;">\, who inherits a restaurant\, Chez Louisiane.&nbsp\;</span>
LOCATION:
UID:e.825.3870
SEQUENCE:3
DTSTAMP:20260425T213446Z
URL:https://members.cbcc.biz/events/details/the-color-of-conversation-film-festival-frank-s-place-screening-3870
END:VEVENT

END:VCALENDAR
