BEGIN:VCALENDAR
VERSION:2.0
PRODID:-//ChamberMaster//Event Calendar 2.0//EN
METHOD:PUBLISH
X-PUBLISHED-TTL:P3D
REFRESH-INTERVAL:P3D
CALSCALE:GREGORIAN
BEGIN:VEVENT
DTSTART:20190720T210000Z
DTEND:20190720T230000Z
X-MICROSOFT-CDO-ALLDAYEVENT:FALSE
SUMMARY:The Color of Conversation: One Child Left Behind: The Untold Atlanta Cheating Scandal Screening
DESCRIPTION:Title: One Child Left Behind: The Untold Atlanta Cheating Scandal\n\nDirector: Jodi Gomes\n\nSynopsis: In 2009\, 1\,176 Atlanta teachers were investigated for test cheating\; 85 were indicted\, 12 went to trial and 11 were found guilty on RICO charges\, which are typically reserved for the mafia and drug lords.\n\nRT: 90 minutes\n\nFollowed by Q&A with director Jodi Gomes. Moderated by Atlanta Journal Constitution Race and Cultural reporter\, Ernie Suggs.
X-ALT-DESC;FMTTYPE=text/html:<p style="background-color: transparent\; border-bottom-color: rgb(66\, 37\, 19)\; border-bottom-style: none\; border-bottom-width: 0px\; border-image-outset: 0\; border-image-repeat: stretch\; border-image-slice: 100%\; border-image-source: none\; border-image-width: 1\; border-left-color: rgb(66\, 37\, 19)\; border-left-style: none\; border-left-width: 0px\; border-right-color: rgb(66\, 37\, 19)\; border-right-style: none\; border-right-width: 0px\; border-top-color: rgb(66\, 37\, 19)\; border-top-style: none\; border-top-width: 0px\; box-sizing: content-box\; color: rgb(66\, 37\, 19)\; font-family: Lato\; font-size: 18px\; font-style: normal\; font-variant: normal\; font-weight: 400\; letter-spacing: normal\; line-height: 29.88px\; margin-bottom: 20px\; margin-left: 0px\; margin-right: 0px\; margin-top: 0px\; orphans: 2\; padding-bottom: 0px\; padding-left: 0px\; padding-right: 0px\; padding-top: 0px\; text-align: left\; text-decoration: none\; text-indent: 0px\; text-transform: none\; vertical-align: baseline\; -webkit-text-stroke-width: 0px\; white-space: normal\; word-spacing: 0px\; word-wrap: break-word\;"><strong style="background-color: transparent\; border-bottom-color: rgb(66\, 37\, 19)\; border-bottom-style: none\; border-bottom-width: 0px\; border-image-outset: 0\; border-image-repeat: stretch\; border-image-slice: 100%\; border-image-source: none\; border-image-width: 1\; border-left-color: rgb(66\, 37\, 19)\; border-left-style: none\; border-left-width: 0px\; border-right-color: rgb(66\, 37\, 19)\; border-right-style: none\; border-right-width: 0px\; border-top-color: rgb(66\, 37\, 19)\; border-top-style: none\; border-top-width: 0px\; box-sizing: content-box\; color: rgb(66\, 37\, 19)\; font-size: 18px\; font-weight: 700\; margin-bottom: 0px\; margin-left: 0px\; margin-right: 0px\; margin-top: 0px\; padding-bottom: 0px\; padding-left: 0px\; padding-right: 0px\; padding-top: 0px\; vertical-align: baseline\;">Title:</strong> <em style="background-color: transparent\; border-bottom-color: rgb(66\, 37\, 19)\; border-bottom-style: none\; border-bottom-width: 0px\; border-image-outset: 0\; border-image-repeat: stretch\; border-image-slice: 100%\; border-image-source: none\; border-image-width: 1\; border-left-color: rgb(66\, 37\, 19)\; border-left-style: none\; border-left-width: 0px\; border-right-color: rgb(66\, 37\, 19)\; border-right-style: none\; border-right-width: 0px\; border-top-color: rgb(66\, 37\, 19)\; border-top-style: none\; border-top-width: 0px\; box-sizing: content-box\; color: rgb(66\, 37\, 19)\; font-size: 18px\; font-style: italic\; margin-bottom: 0px\; margin-left: 0px\; margin-right: 0px\; margin-top: 0px\; padding-bottom: 0px\; padding-left: 0px\; padding-right: 0px\; padding-top: 0px\; vertical-align: baseline\;">One Child Left Behind: The Untold Atlanta Cheating Scandal</em><br style="background-color: transparent\; box-sizing: content-box\; color: rgb(66\, 37\, 19)\;" />\n<strong style="background-color: transparent\; border-bottom-color: rgb(66\, 37\, 19)\; border-bottom-style: none\; border-bottom-width: 0px\; border-image-outset: 0\; border-image-repeat: stretch\; border-image-slice: 100%\; border-image-source: none\; border-image-width: 1\; border-left-color: rgb(66\, 37\, 19)\; border-left-style: none\; border-left-width: 0px\; border-right-color: rgb(66\, 37\, 19)\; border-right-style: none\; border-right-width: 0px\; border-top-color: rgb(66\, 37\, 19)\; border-top-style: none\; border-top-width: 0px\; box-sizing: content-box\; color: rgb(66\, 37\, 19)\; font-size: 18px\; font-weight: 700\; margin-bottom: 0px\; margin-left: 0px\; margin-right: 0px\; margin-top: 0px\; padding-bottom: 0px\; padding-left: 0px\; padding-right: 0px\; padding-top: 0px\; vertical-align: baseline\;">Director:</strong> Jodi Gomes<br style="background-color: transparent\; box-sizing: content-box\; color: rgb(66\, 37\, 19)\;" />\n<strong style="background-color: transparent\; border-bottom-color: rgb(66\, 37\, 19)\; border-bottom-style: none\; border-bottom-width: 0px\; border-image-outset: 0\; border-image-repeat: stretch\; border-image-slice: 100%\; border-image-source: none\; border-image-width: 1\; border-left-color: rgb(66\, 37\, 19)\; border-left-style: none\; border-left-width: 0px\; border-right-color: rgb(66\, 37\, 19)\; border-right-style: none\; border-right-width: 0px\; border-top-color: rgb(66\, 37\, 19)\; border-top-style: none\; border-top-width: 0px\; box-sizing: content-box\; color: rgb(66\, 37\, 19)\; font-size: 18px\; font-weight: 700\; margin-bottom: 0px\; margin-left: 0px\; margin-right: 0px\; margin-top: 0px\; padding-bottom: 0px\; padding-left: 0px\; padding-right: 0px\; padding-top: 0px\; vertical-align: baseline\;">Synopsis:</strong> In 2009\, 1\,176 Atlanta teachers were investigated for test cheating\; 85 were indicted\, 12 went to trial and 11 were found guilty on RICO charges\, which are typically reserved for the mafia and drug lords.<br style="background-color: transparent\; box-sizing: content-box\; color: rgb(66\, 37\, 19)\;" />\n<strong style="background-color: transparent\; border-bottom-color: rgb(66\, 37\, 19)\; border-bottom-style: none\; border-bottom-width: 0px\; border-image-outset: 0\; border-image-repeat: stretch\; border-image-slice: 100%\; border-image-source: none\; border-image-width: 1\; border-left-color: rgb(66\, 37\, 19)\; border-left-style: none\; border-left-width: 0px\; border-right-color: rgb(66\, 37\, 19)\; border-right-style: none\; border-right-width: 0px\; border-top-color: rgb(66\, 37\, 19)\; border-top-style: none\; border-top-width: 0px\; box-sizing: content-box\; color: rgb(66\, 37\, 19)\; font-size: 18px\; font-weight: 700\; margin-bottom: 0px\; margin-left: 0px\; margin-right: 0px\; margin-top: 0px\; padding-bottom: 0px\; padding-left: 0px\; padding-right: 0px\; padding-top: 0px\; vertical-align: baseline\;">RT:</strong> 90 minutes</p>\n\n<p style="background-color: transparent\; border-bottom-color: rgb(66\, 37\, 19)\; border-bottom-style: none\; border-bottom-width: 0px\; border-image-outset: 0\; border-image-repeat: stretch\; border-image-slice: 100%\; border-image-source: none\; border-image-width: 1\; border-left-color: rgb(66\, 37\, 19)\; border-left-style: none\; border-left-width: 0px\; border-right-color: rgb(66\, 37\, 19)\; border-right-style: none\; border-right-width: 0px\; border-top-color: rgb(66\, 37\, 19)\; border-top-style: none\; border-top-width: 0px\; box-sizing: content-box\; color: rgb(66\, 37\, 19)\; font-family: Lato\; font-size: 18px\; font-style: normal\; font-variant: normal\; font-weight: 400\; letter-spacing: normal\; line-height: 29.88px\; margin-bottom: 20px\; margin-left: 0px\; margin-right: 0px\; margin-top: 0px\; orphans: 2\; padding-bottom: 0px\; padding-left: 0px\; padding-right: 0px\; padding-top: 0px\; text-align: left\; text-decoration: none\; text-indent: 0px\; text-transform: none\; vertical-align: baseline\; -webkit-text-stroke-width: 0px\; white-space: normal\; word-spacing: 0px\; word-wrap: break-word\;"><strong style="background-color: transparent\; border-bottom-color: rgb(66\, 37\, 19)\; border-bottom-style: none\; border-bottom-width: 0px\; border-image-outset: 0\; border-image-repeat: stretch\; border-image-slice: 100%\; border-image-source: none\; border-image-width: 1\; border-left-color: rgb(66\, 37\, 19)\; border-left-style: none\; border-left-width: 0px\; border-right-color: rgb(66\, 37\, 19)\; border-right-style: none\; border-right-width: 0px\; border-top-color: rgb(66\, 37\, 19)\; border-top-style: none\; border-top-width: 0px\; box-sizing: content-box\; color: rgb(66\, 37\, 19)\; font-size: 18px\; font-weight: 700\; margin-bottom: 0px\; margin-left: 0px\; margin-right: 0px\; margin-top: 0px\; padding-bottom: 0px\; padding-left: 0px\; padding-right: 0px\; padding-top: 0px\; vertical-align: baseline\;">Followed by Q&amp\;A with director Jodi Gomes.</strong> Moderated by Atlanta Journal Constitution Race and Cultural reporter\, <strong style="background-color: transparent\; border-bottom-color: rgb(66\, 37\, 19)\; border-bottom-style: none\; border-bottom-width: 0px\; border-image-outset: 0\; border-image-repeat: stretch\; border-image-slice: 100%\; border-image-source: none\; border-image-width: 1\; border-left-color: rgb(66\, 37\, 19)\; border-left-style: none\; border-left-width: 0px\; border-right-color: rgb(66\, 37\, 19)\; border-right-style: none\; border-right-width: 0px\; border-top-color: rgb(66\, 37\, 19)\; border-top-style: none\; border-top-width: 0px\; box-sizing: content-box\; color: rgb(66\, 37\, 19)\; font-size: 18px\; font-weight: 700\; margin-bottom: 0px\; margin-left: 0px\; margin-right: 0px\; margin-top: 0px\; padding-bottom: 0px\; padding-left: 0px\; padding-right: 0px\; padding-top: 0px\; vertical-align: baseline\;">Ernie Suggs</strong>.</p>\n
LOCATION:
UID:e.825.3869
SEQUENCE:3
DTSTAMP:20260425T201219Z
URL:https://members.cbcc.biz/events/details/the-color-of-conversation-one-child-left-behind-the-untold-atlanta-cheating-scandal-screening-3869
END:VEVENT

END:VCALENDAR
