BEGIN:VCALENDAR
VERSION:2.0
PRODID:-//ChamberMaster//Event Calendar 2.0//EN
METHOD:PUBLISH
X-PUBLISHED-TTL:P3D
REFRESH-INTERVAL:P3D
CALSCALE:GREGORIAN
BEGIN:VEVENT
DTSTART:20190719T230000Z
DTEND:20190720T040000Z
X-MICROSOFT-CDO-ALLDAYEVENT:FALSE
SUMMARY:The Inaugural Night Golf Mixer
DESCRIPTION:RSVP by July 5th. Limited Spaces. \n\n RSVP to Jocelyn.robinson@att.net\n\nMake checks out to "Colorado Black Chamber of Commerce"
X-ALT-DESC;FMTTYPE=text/html:RSVP by July 5th. Limited Spaces.&nbsp\;<br />\n&#8203\;RSVP to Jocelyn.robinson@att.net<br />\nMake checks out to &quot\;Colorado Black Chamber of Commerce&quot\;
LOCATION:Newly Remolded GVR Golf Course Clubhouse and Restaurant 4900 Hiomalaya Rd Denver CO 802049
UID:e.825.3871
SEQUENCE:3
DTSTAMP:20260425T200514Z
URL:https://members.cbcc.biz/events/details/the-inaugural-night-golf-mixer-3871
END:VEVENT

END:VCALENDAR
