BEGIN:VCALENDAR
VERSION:2.0
PRODID:-//ChamberMaster//Event Calendar 2.0//EN
METHOD:PUBLISH
X-PUBLISHED-TTL:P3D
REFRESH-INTERVAL:P3D
CALSCALE:GREGORIAN
BEGIN:VEVENT
DTSTART:20190511T013000Z
DTEND:20190511T040000Z
X-MICROSOFT-CDO-ALLDAYEVENT:FALSE
SUMMARY:The Spirituals Project Choir Choral Festival Roland M. Carter\, guest conductor The Spirituals Project Choir The Bennie L. Williams Spiritual Voices
DESCRIPTION:The Spirituals Project Choir Choral Festival Roland M. Carter\, guest conductor The Spirituals Project Choir The Bennie L. Williams Spiritual Voices The Colorado Children's Chorale Friday\, May 10\, 7:30pm Gates Concert Hall Newman Center for the Performing Arts 2344 East Iliff Avenue Free Admission\, Complimentary Parking In keeping with the Spirituals Project mission\, "to preserve and revitalize the music and teachings of the sacred songs called 'spirituals'\," the Spirituals Project Choir will be joined by The Benny L. Williams Spiritual Voices\, the Colorado Children's Chorale and guest conductor Roland M. Carter.
X-ALT-DESC;FMTTYPE=text/html:The Spirituals Project Choir Choral Festival Roland M. Carter\, guest conductor The Spirituals Project Choir The Bennie L. Williams Spiritual Voices The Colorado Children&rsquo\;s Chorale Friday\, May 10\, 7:30pm Gates Concert Hall Newman Center for the Performing Arts 2344 East Iliff Avenue Free Admission\, Complimentary Parking In keeping with the Spirituals Project mission\, &ldquo\;to preserve and revitalize the music and teachings of the sacred songs called &lsquo\;spirituals&rsquo\;\,&rdquo\; the Spirituals Project Choir will be joined by The Benny L. Williams Spiritual Voices\, the Colorado Children&rsquo\;s Chorale and guest conductor Roland M. Carter.
LOCATION:Gates Concert Hall Newman Center for the Performing Arts 2344 East Iliff Avenue
UID:e.825.3697
SEQUENCE:3
DTSTAMP:20260425T230125Z
URL:https://members.cbcc.biz/events/details/the-spirituals-project-choir-choral-festival-roland-m-carter-guest-conductor-the-spirituals-project-choir-the-bennie-l-williams-spiritual-voices-3697
END:VEVENT

END:VCALENDAR
