BEGIN:VCALENDAR
VERSION:2.0
PRODID:-//ChamberMaster//Event Calendar 2.0//EN
METHOD:PUBLISH
X-PUBLISHED-TTL:P3D
REFRESH-INTERVAL:P3D
CALSCALE:GREGORIAN
BEGIN:VEVENT
DTSTART:20190425T203000Z
DTEND:20190425T230000Z
X-MICROSOFT-CDO-ALLDAYEVENT:FALSE
SUMMARY:THRIVE: Find your Path_HBCU Career Fair
DESCRIPTION:The Greater Denver Clark Atlanta University Alumni Chapter in conjunction with Vista PEAK High School and Denver metro area-based Historically Black Colleges and University (HBCU) Alumni Associations (Grambling State University\, Hampton University\, Howard University\, Morehouse College\, Spelman College\, Southern University and Tuskegee University) are hosting a Career Fair on Thursday\, April 25\, 2019. Together\, we are committed to exposing high school students to a variety of career pathways\, information on what college and educational training is needed after high school\, how to understand job outlook\, work experience and internship opportunities\, while providing them the tools to successfully graduate from college. We invite you to participate and showcase your career during the Career Fair which will be held on Thursday\, April 25th\, 3:30 pm   5:00 pm (2:30pm set-up) at Vista PEAK High School\, 24500 E 6th Avenue\, Aurora\, CO 80018. The theme is: "THRIVE: Find Your Path". Your expertise will provide valuable insight that will help the trajectory of student's lives. We are hoping that you can join us to share about your career and if applicable\, your matriculation at an HBCU and how that experience has positively impacted and potentially\, inspired\, your career path. While all HBCU Alumni are encouraged to participate anyone\, including non-HBCU Alumni\, may showcase their profession. The recruitment flyer is attached. Please share with your networks. To confirm your attendance\, please complete and submit form by April 17th\, via the link below: https://tinyurl.com/CareerPaths2019 For more information call Djuana Harvell at 720-732-1699 or djharvell@yahoo.com
X-ALT-DESC;FMTTYPE=text/html:The Greater Denver Clark Atlanta University Alumni Chapter in conjunction with Vista PEAK High School and Denver metro area-based Historically Black Colleges and University (HBCU) Alumni Associations (Grambling State University\, Hampton University\, Howard University\, Morehouse College\, Spelman College\, Southern University and Tuskegee University) are hosting a Career Fair on Thursday\, April 25\, 2019. Together\, we are committed to exposing high school students to a variety of career pathways\, information on what college and educational training is needed after high school\, how to understand job outlook\, work experience and internship opportunities\, while providing them the tools to successfully graduate from college. We invite you to participate and showcase your career during the Career Fair which will be held on Thursday\, April 25th\, 3:30 pm &ndash\; 5:00 pm (2:30pm set-up) at Vista PEAK High School\, 24500 E 6th Avenue\, Aurora\, CO 80018. The theme is: &ldquo\;THRIVE: Find Your Path&rdquo\;. Your expertise will provide valuable insight that will help the trajectory of student&rsquo\;s lives. We are hoping that you can join us to share about your career and if applicable\, your matriculation at an HBCU and how that experience has positively impacted and potentially\, inspired\, your career path. While all HBCU Alumni are encouraged to participate anyone\, including non-HBCU Alumni\, may showcase their profession. The recruitment flyer is attached. Please share with your networks. To confirm your attendance\, please complete and submit form by April 17th\, via the link below: https://tinyurl.com/CareerPaths2019 For more information call Djuana Harvell at 720-732-1699 or djharvell@yahoo.com
LOCATION:Vista PEAK High School\, 24500 E 6th Avenue\, Aurora\, CO 80018.
UID:e.825.3685
SEQUENCE:3
DTSTAMP:20260426T014935Z
URL:https://members.cbcc.biz/events/details/thrive-find-your-path_hbcu-career-fair-3685
END:VEVENT

END:VCALENDAR
