BEGIN:VCALENDAR
VERSION:2.0
PRODID:-//ChamberMaster//Event Calendar 2.0//EN
METHOD:PUBLISH
X-PUBLISHED-TTL:P3D
REFRESH-INTERVAL:P3D
CALSCALE:GREGORIAN
BEGIN:VEVENT
DTSTART;VALUE=DATE:20190308
DTEND;VALUE=DATE:20190311
TRANSP:TRANSPARENT
X-MICROSOFT-CDO-ALLDAYEVENT:TRUE
SUMMARY:Tour de Force: Performed By Colorado Ballet alongside Cleo Parker Robinson Dance and Wonderbound
DESCRIPTION:This innovative collaboration features Colorado Ballet alongside Wonderbound and Cleo Parker Robinson Dance and showcases the dancers performing together in brand new works created by Garrett Ammon and Cleo Parker Robinson especially for this program.
X-ALT-DESC;FMTTYPE=text/html:<table border="0" cellpadding="0" cellspacing="0" style="color:rgb(34\, 34\, 34)\;font-family:Roboto\, RobotoDraft\, Helvetica\, Arial\, sans-serif\;font-size:small\;width:600px\;border-collapse:collapse\;" width="600">\n	<tbody>\n		<tr style="height:15px\;">\n			<td style="padding:0in\;height:15px\;">&nbsp\;</td>\n		</tr>\n		<tr>\n			<td style="padding:0in\;vertical-align:top\;">\n			<div id="m_-7739980106979432272FreeTextContentce2b2de7-c37c-4307-9b87-9322138ec628">\n			<h3 align="center" style="text-align:center\;background-image:initial\;background-position:initial\;background-size:initial\;background-repeat:initial\;background-attachment:initial\;background-origin:initial\;background-clip:initial\;"><span style="color:#505050\;"><span style="font-family:ms sans serif\,serif\;">This innovative collaboration features Colorado Ballet alongside Wonderbound and Cleo Parker Robinson Dance and showcases the dancers performing together in brand new works created by Garrett Ammon and Cleo Parker Robinson especially for this program.</span></span></h3>\n			</div>\n			</td>\n		</tr>\n		<tr style="height:5px\;">\n			<td style="padding:0in\;height:5px\;">&nbsp\;</td>\n		</tr>\n	</tbody>\n</table>\n
LOCATION:Ellie Caulkins Opera House 1385 Curtis Street\, Denver\, CO 80204
UID:e.825.3588
SEQUENCE:3
DTSTAMP:20260426T033947Z
URL:https://members.cbcc.biz/events/details/tour-de-force-performed-by-colorado-ballet-alongside-cleo-parker-robinson-dance-and-wonderbound-3588
END:VEVENT

END:VCALENDAR
