BEGIN:VCALENDAR
VERSION:2.0
PRODID:-//ChamberMaster//Event Calendar 2.0//EN
METHOD:PUBLISH
X-PUBLISHED-TTL:P3D
REFRESH-INTERVAL:P3D
CALSCALE:GREGORIAN
BEGIN:VEVENT
DTSTART:20140124T160000Z
DTEND:20140124T170000Z
X-MICROSOFT-CDO-ALLDAYEVENT:FALSE
SUMMARY:Women's Business Forum
DESCRIPTION:Calling all CBCC Members!\n\n\n\nJoin us for the 2014 Women's Business Forum meeting. Help us plan for the best year yet as we take the Black Chamber to new heights.\n\n\n\nWe promise great networking opportunities and a chance to get involved in the Black business community.
X-ALT-DESC;FMTTYPE=text/html:Calling all CBCC Members!<br />\n<br />\nJoin us for the 2014 Women&#39\;s Business Forum meeting. Help us plan for the best year yet as we take the Black Chamber to new heights.<br />\n<br />\nWe promise great networking opportunities and a chance to get involved in the Black business community.<br type="_moz" />\n
LOCATION:1410 Grant Street\, Suite B104 Denver\, CO 80203
UID:e.825.919
SEQUENCE:3
DTSTAMP:20260419T202540Z
URL:https://members.cbcc.biz/events/details/women-s-business-forum-01-24-2014-919
END:VEVENT

END:VCALENDAR
