BEGIN:VCALENDAR
VERSION:2.0
PRODID:-//ChamberMaster//Event Calendar 2.0//EN
METHOD:PUBLISH
X-PUBLISHED-TTL:P3D
REFRESH-INTERVAL:P3D
CALSCALE:GREGORIAN
BEGIN:VEVENT
DTSTART:20170405T210000Z
DTEND:20170406T000000Z
X-MICROSOFT-CDO-ALLDAYEVENT:FALSE
SUMMARY:Youth Job Fair
DESCRIPTION:Youth Job Fair.
X-ALT-DESC;FMTTYPE=text/html:Youth Job Fair.&nbsp\;
LOCATION:McNichols Civic Center Building 144 W. Colfax\, 80202
UID:e.825.1164
SEQUENCE:3
DTSTAMP:20260420T043556Z
URL:https://members.cbcc.biz/events/details/youth-job-fair-1164
END:VEVENT

END:VCALENDAR
